Workbook

Sheet TOC
A1: Vlaams Rapport 2025: Extra figuren
A2: Referentie Vlaams Rapport: Berlamont, L., Lermytte, A., Abbeel, F., Lemaitre, R., Tavernier, N., van Braak, J. (2026). Vlaams rapport PISA 2025. Gent: Universiteit Gent
A4: Hoofdstuk 2
A5: ='Tabel 2.I'!A1 -> Tabel 2.I | C5: ='Tabel 2.I'!A2 -> Gemiddelde score voor wetenschappen (EU27 + Engeland)
A6: ='Figuur 2.I'!A1 -> Figuur 2.I | C6: ='Figuur 2.I'!A2 -> Percentage toppresteerders voor de subdomeinen van wetenschappen
A7: ='Figuur 2.II'!A1 -> Figuur 2.II | C7: ='Figuur 2.II'!A2 -> Percentage laagpresteerders voor de subdomeinen van wetenschappen
A8: ='Tabel 2.II'!A1 -> Tabel 2.II | C8: ='Tabel 2.II'!A2 -> Gemiddelde score voor lezen (EU27 + Engeland)
A9: ='Tabel 2.III'!A1 -> Tabel 2.III | C9: ='Tabel 2.III'!A2 -> Gemiddelde score voor wiskunde (EU27 + Engeland)
A11: Hoofdstuk 3
A12: ='Figuur 3.I'!A1 -> Figuur 3.I | C12: ='Figuur 3.I'!A2 -> Prestatiekloof voor wetenschappen tussen 10% hoogst en 10% laagste presterende leerlingen
A13: ='Figuur 3.II'!A1 -> Figuur 3.II | C13: ='Figuur 3.II'!A2 -> Prestatiekloof voor lezen tussen 10% hoogst en 10% laagste presterende leerlingen
A14: ='Figuur 3.III'!A1 -> Figuur 3.III | C14: ='Figuur 3.III'!A2 -> Prestatiekloof voor wiskunde tussen 10% hoogst en 10% laagste presterende leerlingen
A15: ='Figuur 3.IV'!A1 -> Figuur 3.IV | C15: ='Figuur 3.IV'!A2 -> Samenhang tussen de spreiding en de gemiddelde score voor lezen
A16: ='Figuur 3.V'!A1 -> Figuur 3.V | C16: ='Figuur 3.V'!A2 -> Samenhang tussen de spreiding en de gemiddelde score voor wiskunde
A17: ='Figuur 3.VI'!A1 -> Figuur 3.VI | C17: ='Figuur 3.VI'!A2 -> Trend aandeel toppresteerders jongens en meisjes voor wetenschappen, lezen en wiskunde sinds PISA 2015
A18: ='Figuur 3.VII'!A1 -> Figuur 3.VII | C18: ='Figuur 3.VII'!A2 -> Trend aandeel laagpresteerders jongens en meisjes voor wetenschappen, lezen en wiskunde sinds PISA 2015
A19: ='Figuur 3.VIII'!A1 -> Figuur 3.VIII | C19: ='Figuur 3.VIII'!A2 -> Prestatiekloof tussen socio-economisch meest en minst bevoorrechte leerlingen voor wetenschappen
A20: ='Figuur 3.IX'!A1 -> Figuur 3.IX | C20: ='Figuur 3.IX'!A2 -> Prestatiekloof tussen socio-economisch meest en minst bevoorrechte leerlingen voor lezen
A21: ='Figuur 3.X'!A1 -> Figuur 3.X | C21: ='Figuur 3.X'!A2 -> Prestatiekloof tussen socio-economisch meest en minst bevoorrechte leerlingen voor wiskunde
A22: ='Figuur 3.XI'!A1 -> Figuur 3.XI | C22: ='Figuur 3.XI'!A2 -> Samenhang tussen de socio-economische eerlijkheid en de gemiddelde score voor lezen
A23: ='Figuur 3.XII'!A1 -> Figuur 3.XII | C23: ='Figuur 3.XII'!A2 -> Samenhang tussen de socio-economische eerlijkheid en de gemiddelde score voor wiskunde
A24: ='Figuur 3.XIII'!A1 -> Figuur 3.XIII | C24: ='Figuur 3.XIII'!A2 -> Trend aandeel toppresteerders socio-economisch meest en minst bevoorrechte leerlingen voor wetenschappen, lezen en wiskunde sinds PISA 2015
A25: ='Figuur 3.XIV'!A1 -> Figuur 3.XIV | C25: ='Figuur 3.XIV'!A2 -> Trend aandeel laagpresteerders socio-economisch meest en minst bevoorrechte leerlingen voor wetenschappen, lezen en wiskunde sinds PISA 2015
A26: ='Figuur 3.XV'!A1 -> Figuur 3.XV | C26: ='Figuur 3.XV'!A2 -> Prestatiekloof voor wetenschappen tussen leerlingen die thuis meestal de testtaal spreken en leerlingen die thuis meestal een andere taal spreken
A27: ='Figuur 3.XVI'!A1 -> Figuur 3.XVI | C27: ='Figuur 3.XVI'!A2 -> Prestatiekloof voor lezen tussen leerlingen die thuis meestal de testtaal spreken en leerlingen die thuis meestal een andere taal spreken
A28: ='Figuur 3.XVII'!A1 -> Figuur 3.XVII | C28: ='Figuur 3.XVII'!A2 -> Prestatiekloof voor wiskunde tussen leerlingen die thuis meestal de testtaal spreken en leerlingen die thuis meestal een andere taal spreken
A29: ='Figuur 3.XVIII'!A1 -> Figuur 3.XVIII | C29: ='Figuur 3.XVIII'!A2 -> Prestatiekloof voor lezen tussen leerlingen die thuis meestal de testtaal spreken en leerlingen die thuis meestal een andere taal spreken, gecontroleerd voor SES
A30: ='Figuur 3.XIX'!A1 -> Figuur 3.XIX | C30: ='Figuur 3.XIX'!A2 -> Prestatiekloof voor wiskunde tussen leerlingen die thuis meestal de testtaal spreken en leerlingen die thuis meestal een andere taal spreken, gecontroleerd voor SES
A31: ='Figuur 3.XX'!A1 -> Figuur 3.XX | C31: ='Figuur 3.XX'!A2 -> Gemiddelde score voor lezen naargelang thuistaal en socio-economische status in Vlaanderen
A32: ='Figuur 3.XXI'!A1 -> Figuur 3.XXI | C32: ='Figuur 3.XXI'!A2 -> Gemiddelde score voor wiskunde naargelang thuistaal en socio-economische status in Vlaanderen
A33: ='Figuur 3.XXII'!A1 -> Figuur 3.XXII | C33: ='Figuur 3.XXII'!A2 -> Gemiddelde score voor lezen naargelang thuistaal in Vlaanderen, voor en na controle van SES
A34: ='Figuur 3.XXIII'!A1 -> Figuur 3.XXIII | C34: ='Figuur 3.XXIII'!A2 -> Gemiddelde score voor wiskunde naargelang thuistaal in Vlaanderen, voor en na controle van SES
A35: ='Figuur 3.XXIV'!A1 -> Figuur 3.XXIV | C35: ='Figuur 3.XXIV'!A2 -> Trend aandeel toppresteerders leerlingen die thuis meestal de testtaal of een andere taal spreken voor wetenschappen, lezen en wiskunde sinds PISA 2015
A36: ='Figuur 3.XXV'!A1 -> Figuur 3.XXV | C36: ='Figuur 3.XXV'!A2 -> Trend aandeel laagpresteerders leerlingen die thuis meestal de testtaal of een andere taal spreken voor wetenschappen, lezen en wiskunde sinds PISA 2015
A37: ='Figuur 3.XXVI'!A1 -> Figuur 3.XXVI | C37: ='Figuur 3.XXVI'!A2 -> Prestatiekloof voor wetenschappen tussen autochtone leerlingen en leerlingen met migratieachtergrond
A38: ='Figuur 3.XXVII'!A1 -> Figuur 3.XXVII | C38: ='Figuur 3.XXVII'!A2 -> Prestatiekloof voor lezen tussen autochtone leerlingen en leerlingen met migratieachtergrond
A39: ='Figuur 3.XXVIII'!A1 -> Figuur 3.XXVIII | C39: ='Figuur 3.XXVIII'!A2 -> Prestatiekloof voor wiskunde tussen autochtone leerlingen en leerlingen met migratieachtergrond
A40: ='Figuur 3.XXIX'!A1 -> Figuur 3.XXIX | C40: ='Figuur 3.XXIX'!A2 -> Gemiddelde score voor lezen van autochtone, tweede generatie en eerste generatie leerlingen voor Vlaanderen, het EU-gemiddelde en het OESO-gemiddelde
A41: ='Figuur 3.XXX'!A1 -> Figuur 3.XXX | C41: ='Figuur 3.XXX'!A2 -> Gemiddelde score voor wiskunde van autochtone, tweede generatie en eerste generatie leerlingen voor Vlaanderen, het EU-gemiddelde en het OESO-gemiddelde
A42: ='Figuur 3.XXXI'!A1 -> Figuur 3.XXXI | C42: ='Figuur 3.XXXI'!A2 -> Prestatiekloof voor lezen tussen autochtone leerlingen en leerlingen met een migratieachtergrond, gecontroleerd voor SES
...

Sheet Tabel 2.I
A1: Tabel 2.I
A2: Gemiddelde score voor wetenschappen (EU27 + Engeland)
A37: Noot. ▲ = significant hoger dan Vlaanderen. ▼ = significant lager dan Vlaanderen.

Sheet Figuur 2.I
A1: Figuur 2.I
A2: Percentage toppresteerders voor de subdomeinen van wetenschappen

Sheet Figuur 2.II
A1: Figuur 2.II
A2: Percentage laagpresteerders voor de subdomeinen van wetenschappen

Sheet Tabel 2.II
A1: Tabel 2.II
A2: Gemiddelde score voor lezen (EU27 + Engeland)
A37: Noot. ▲ = significant hoger dan Vlaanderen. ▼ = significant lager dan Vlaanderen.

Sheet Tabel 2.III
A1: Tabel 2.III
A2: Gemiddelde score voor wiskunde (EU27 + Engeland)
A37: Noot. ▲ = significant hoger dan Vlaanderen. ▼ = significant lager dan Vlaanderen.

Sheet Figuur 3.I
A1: Figuur 3.I
A2: Prestatiekloof voor wetenschappen tussen 10% hoogst en 10% laagste presterende leerlingen

Sheet Figuur 3.II
A1: Figuur 3.II
A2: Prestatiekloof voor lezen tussen 10% hoogst en 10% laagste presterende leerlingen

Sheet Figuur 3.III
A1: Figuur 3.III
A2: Prestatiekloof voor wiskunde tussen 10% hoogst en 10% laagste presterende leerlingen

Sheet Figuur 3.IV
A1: Figuur 3.IV
A2: Samenhang tussen de spreiding en de gemiddelde score voor lezen
A28: Noot. Bij de vergelijking van de gemiddelde prestatie en de spreiding met het OESO-gemiddelde wordt in deze figuur geen rekening gehouden met statistische significantie.

Sheet Figuur 3.V
A1: Figuur 3.V
A2: Samenhang tussen de spreiding en de gemiddelde score voor wiskunde
A30: Noot. Bij de vergelijking van de gemiddelde prestatie en de spreiding met het OESO-gemiddelde wordt in deze figuur geen rekening gehouden met statistische significantie.

Sheet Figuur 3.VI
A1: Figuur 3.VI
A2: Trend aandeel toppresteerders jongens en meisjes voor wetenschappen, lezen en wiskunde sinds PISA 2015
A23: Noot. Significante verschillen ten opzichte van de vorige cyclus worden met een asterisk aangeduid.

Sheet Figuur 3.VII
A1: Figuur 3.VII
A2: Trend aandeel laagpresteerders jongens en meisjes voor wetenschappen, lezen en wiskunde sinds PISA 2015
A23: Noot. Significante verschillen ten opzichte van de vorige cyclus worden met een asterisk aangeduid.

Sheet Figuur 3.VIII
A1: Figuur 3.VIII
A2: Prestatiekloof tussen socio-economisch meest en minst bevoorrechte leerlingen voor wetenschappen

Sheet Figuur 3.IX
A1: Figuur 3.IX
A2: Prestatiekloof tussen socio-economisch meest en minst bevoorrechte leerlingen voor lezen

Sheet Figuur 3.X
A1: Figuur 3.X
A2: Prestatiekloof tussen socio-economisch meest en minst bevoorrechte leerlingen voor wiskunde

Sheet Figuur 3.XI
A1: Figuur 3.XI
A2: Samenhang tussen de socio-economische eerlijkheid en de gemiddelde score voor lezen
A31: Noot. Bij de vergelijking van de gemiddelde prestatie en de socio-economische eerlijkheid met het OESO-gemiddelde wordt in deze figuur geen rekening gehouden met statistische significantie.

Sheet Figuur 3.XII
A1: Figuur 3.XII
A2: Samenhang tussen de socio-economische eerlijkheid en de gemiddelde score voor wiskunde
A31: Noot. Bij de vergelijking van de gemiddelde prestatie en de socio-economische eerlijkheid met het OESO-gemiddelde wordt in deze figuur geen rekening gehouden met statistische significantie.

Sheet Figuur 3.XIII
A1: Figuur 3.XIII
A2: Trend aandeel toppresteerders socio-economisch meest en minst bevoorrechte leerlingen voor wetenschappen, lezen en wiskunde sinds PISA 2015
A23: Noot. Significante verschillen ten opzichte van de vorige cyclus worden met een asterisk aangeduid.

Sheet Figuur 3.XIV
A1: Figuur 3.XIV
A2: Trend aandeel laagpresteerders socio-economisch meest en minst bevoorrechte leerlingen voor wetenschappen, lezen en wiskunde sinds PISA 2015
A23: Noot. Significante verschillen ten opzichte van de vorige cyclus worden met een asterisk aangeduid.

Sheet Figuur 3.XV
A1: Figuur 3.XV
A2: Prestatiekloof voor wetenschappen tussen leerlingen die thuis meestal de testtaal spreken en leerlingen die thuis meestal een andere taal spreken

Sheet Figuur 3.XVI
A1: Figuur 3.XVI
A2: Prestatiekloof voor lezen tussen leerlingen die thuis meestal de testtaal spreken en leerlingen die thuis meestal een andere taal spreken

Sheet Figuur 3.XVII
A1: Figuur 3.XVII
A2: Prestatiekloof voor wiskunde tussen leerlingen die thuis meestal de testtaal spreken en leerlingen die thuis meestal een andere taal spreken

Sheet Figuur 3.XVIII
A1: Figuur 3.XVIII
A2: Prestatiekloof voor lezen tussen leerlingen die thuis meestal de testtaal spreken en leerlingen die thuis meestal een andere taal spreken, gecontroleerd voor SES
A42: Noot. De puntenverschillen in deze figuur wijken af van de eerder gerapporteerde verschilscores, omdat enkel leerlingen met beschikbare gegevens voor zowel thuistaal als SES werden opgenomen.

Sheet Figuur 3.XIX
A1: Figuur 3.XIX
A2: Prestatiekloof voor wiskunde tussen leerlingen die thuis meestal de testtaal spreken en leerlingen die thuis meestal een andere taal spreken, gecontroleerd voor SES
A42: Noot. De puntenverschillen in deze figuur wijken af van de eerder gerapporteerde verschilscores, omdat enkel leerlingen met beschikbare gegevens voor zowel thuistaal als SES werden opgenomen.

Sheet Figuur 3.XX
A1: Figuur 3.XX
A2: Gemiddelde score voor lezen naargelang thuistaal en socio-economische status in Vlaanderen

Sheet Figuur 3.XXI
A1: Figuur 3.XXI
A2: Gemiddelde score voor wiskunde naargelang thuistaal en socio-economische status in Vlaanderen

Sheet Figuur 3.XXII
A1: Figuur 3.XXII
A2: Gemiddelde score voor lezen naargelang thuistaal in Vlaanderen, voor en na controle van SES
A22: Noot. De thuistaalcategorieën zijn geordend volgens gemiddelde score na controle van SES. De scores in deze figuur wijken af van de eerder gerapporteerde gemiddelde scores naar thuistaalcategorie, omdat enkel leerlingen met beschikbare gegevens voor zowel thuistaal als SES werden opgenomen in de analyse. De gemiddelde scores van leerlingen met een Afrikaanse thuistaal zijn minder betrouwbaar, omdat slechts een klein aantal leerlingen aangaf een Afrikaanse taal thuis te spreken.

Sheet Figuur 3.XXIII
A1: Figuur 3.XXIII
A2: Gemiddelde score voor wiskunde naargelang thuistaal in Vlaanderen, voor en na controle van SES
A22: Noot. De thuistaalcategorieën zijn geordend volgens gemiddelde score na controle van SES. De scores in deze figuur wijken af van de eerder gerapporteerde gemiddelde scores naar thuistaalcategorie, omdat enkel leerlingen met beschikbare gegevens voor zowel thuistaal als SES werden opgenomen in de analyse. De gemiddelde scores van leerlingen met een Afrikaanse thuistaal zijn minder betrouwbaar, omdat slechts een klein aantal leerlingen aangaf een Afrikaanse taal thuis te spreken.

Sheet Figuur 3.XXIV
A1: Figuur 3.XXIV
A2: Trend aandeel toppresteerders leerlingen die thuis meestal de testtaal of een andere taal spreken voor wetenschappen, lezen en wiskunde sinds PISA 2015
A23: Noot. Significante verschillen ten opzichte van de vorige cyclus worden met een asterisk aangeduid.

Sheet Figuur 3.XXV
A1: Figuur 3.XXV
A2: Trend aandeel laagpresteerders leerlingen die thuis meestal de testtaal of een andere taal spreken voor wetenschappen, lezen en wiskunde sinds PISA 2015
A23: Noot. Significante verschillen ten opzichte van de vorige cyclus worden met een asterisk aangeduid.

Sheet Figuur 3.XXVI
A1: Figuur 3.XXVI
A2: Prestatiekloof voor wetenschappen tussen autochtone leerlingen en leerlingen met migratieachtergrond

Sheet Figuur 3.XXVII
A1: Figuur 3.XXVII
A2: Prestatiekloof voor lezen tussen autochtone leerlingen en leerlingen met migratieachtergrond

Sheet Figuur 3.XXVIII
A1: Figuur 3.XXVIII
A2: Prestatiekloof voor wiskunde tussen autochtone leerlingen en leerlingen met migratieachtergrond

Sheet Figuur 3.XXIX
A1: Figuur 3.XXIX
A2: Gemiddelde score voor lezen van autochtone, tweede generatie en eerste generatie leerlingen voor Vlaanderen, het EU-gemiddelde en het OESO-gemiddelde

Sheet Figuur 3.XXX
A1: Figuur 3.XXX
A2: Gemiddelde score voor wiskunde van autochtone, tweede generatie en eerste generatie leerlingen voor Vlaanderen, het EU-gemiddelde en het OESO-gemiddelde

Sheet Figuur 3.XXXI
A1: Figuur 3.XXXI
A2: Prestatiekloof voor lezen tussen autochtone leerlingen en leerlingen met een migratieachtergrond, gecontroleerd voor SES
A42: Noot. Landen worden gerangschikt volgens het puntenverschil tussen autochtone leerlingen en leerlingen met een migratieachtergrond na controle voor SES. De puntenverschillen in deze figuur wijken af van de eerder gerapporteerde verschilscores, omdat enkel leerlingen met beschikbare gegevens voor migratiestatus, SES en thuistaal worden opgenomen, naar analogie met het internationaal rapport.

Sheet Figuur 3.XXXII
A1: Figuur 3.XXXII
A2: Prestatiekloof voor wiskunde tussen autochtone leerlingen en leerlingen met een migratieachtergrond, gecontroleerd voor SES
A42: Noot. Landen worden gerangschikt volgens het puntenverschil tussen autochtone leerlingen en leerlingen met een migratieachtergrond na controle voor SES. De puntenverschillen in deze figuur wijken af van de eerder gerapporteerde verschilscores, omdat enkel leerlingen met beschikbare gegevens voor migratiestatus, SES en thuistaal worden opgenomen, naar analogie met het internationaal rapport.

Sheet Figuur 3.XXXIII
A1: Figuur 3.XXXIII
A2: Gemiddelde score voor lezen naargelang migratiestatus en socio-economische status
A18: Noot. De gemiddelde scores van eerste generatie leerlingen in het vierde SES-kwart zijn minder betrouwbaar, omdat slechts een klein aantal leerlingen tot deze groep behoort.

Sheet Figuur 3.XXXIV
A1: Figuur 3.XXXIV
A2: Gemiddelde score voor wiskunde naargelang migratiestatus en socio-economische status
A18: Noot. De gemiddelde scores van eerste generatie leerlingen in het vierde SES-kwart zijn minder betrouwbaar, omdat slechts een klein aantal leerlingen tot deze groep behoort.

Sheet Figuur 3.XXXV
A1: Figuur 3.XXXV
A2: Prestatiekloof voor lezen tussen autochtone leerlingen en leerlingen met een migratieachtergrond, gecontroleerd voor thuistaal
A43: Noot. Landen zijn geordend volgens het puntenverschil tussen autochtone leerlingen en leerlingen met een migratieachtergrond na controle voor thuistaal. De puntenverschillen in deze figuur wijken af van de eerder gerapporteerde verschilscores, omdat enkel leerlingen met beschikbare gegevens voor migratiestatus, SES en thuistaal worden opgenomen omdat enkel leerlingen met beschikbare gegevens voor migratiestatus, SES en thuistaal worden opgenomen, naar analogie met het internationaal rapport.

Sheet Figuur 3.XXXVI
A1: Figuur 3.XXXVI
A2: Prestatiekloof voor wiskunde tussen autochtone leerlingen en leerlingen met een migratieachtergrond, gecontroleerd voor thuistaal
A43: Noot. Landen zijn geordend volgens het puntenverschil tussen autochtone leerlingen en leerlingen met een migratieachtergrond na controle voor thuistaal. De puntenverschillen in deze figuur wijken af van de eerder gerapporteerde verschilscores, omdat enkel leerlingen met beschikbare gegevens voor migratiestatus, SES en thuistaal worden opgenomen omdat enkel leerlingen met beschikbare gegevens voor migratiestatus, SES en thuistaal worden opgenomen, naar analogie met het internationaal rapport.

Sheet Figuur 3.XXXVII
A1: Figuur 3.XXXVII
A2: Gemiddelde score voor lezen naargelang migratiestatus en thuistaal in Vlaanderen

Sheet Figuur 3.XXXVIII
A1: Figuur 3.XXXVIII
A2: Gemiddelde score voor wetenschappen naargelang migratiestatus en thuistaal in Vlaanderen

Sheet Figuur 3.XXXIX
A1: Figuur 3.XXXIX
A2: Prestatiekloof voor lezen tussen autochtone leerlingen en leerlingen met een migratieachtergrond, gecontroleerd voor SES en thuistaal
A41: Noot. Landen zijn geordend volgens het puntenverschil tussen autochtone leerlingen en leerlingen met een migratieachtergrond na controle voor SES en thuistaal. De puntenverschillen in deze figuur wijken af van de eerder gerapporteerde verschilscores, omdat enkel leerlingen met beschikbare gegevens voor migratiestatus, SES en thuistaal worden opgenomen.

Sheet Figuur 3.XXXX
A1: Figuur 3.XXXX
A2: Prestatiekloof voor wiskunde tussen autochtone leerlingen en leerlingen met een migratieachtergrond, gecontroleerd voor SES en thuistaal
A41: Noot. Landen zijn geordend volgens het puntenverschil tussen autochtone leerlingen en leerlingen met een migratieachtergrond na controle voor SES en thuistaal. De puntenverschillen in deze figuur wijken af van de eerder gerapporteerde verschilscores, omdat enkel leerlingen met beschikbare gegevens voor migratiestatus, SES en thuistaal worden opgenomen.

Sheet Figuur 3.XXXXI
A1: Figuur 3.XXXXI
A2: Trend aandeel toppresteerders autochtone leerlingen en leerlingen met een migratieachtergrond voor wetenschappen, lezen en wiskunde sinds PISA 2015
A23: Noot. Significante verschillen ten opzichte van de vorige cyclus worden met een asterisk aangeduid.

Sheet Figuur 3.XXXXII
A1: Figuur 3.XXXXII
A2: Trend aandeel laagpresteerders autochtone leerlingen en leerlingen met een migratieachtergrond voor wetenschappen, lezen en wiskunde sinds PISA 2015
A23: Noot. Significante verschillen ten opzichte van de vorige cyclus worden met een asterisk aangeduid.

Sheet Figuur 3.XXXXIII
A1: Figuur 3.XXXXIII
A2: Trend aandeel toppresteerders leerlingen in het aso, tso, bso en kso voor wetenschappen, lezen en wiskunde sinds PISA 2015
A25: Noot. Significante verschillen ten opzichte van de vorige cyclus worden met een asterisk aangeduid.

Sheet Figuur 3.XXXXIV
A1: Figuur 3.XXXXIV
A2: Trend aandeel laagpresteerders leerlingen in het aso, tso, bso en kso voor wetenschappen, lezen en wiskunde sinds PISA 2015
A25: Noot. Significante verschillen ten opzichte van de vorige cyclus worden met een asterisk aangeduid.

Sheet Tabel 4.I
A1: Tabel 4.I
A2: Gemiddelde score voor computationeel probleemoplossen (EU27 + Engeland)
A37: Noot. ▲ = significant hoger dan Vlaanderen. ▼ = significant lager dan Vlaanderen.
