Workbook

Sheet TOC
A1: Vlaams Rapport 2025: Figuren en tabellen alle landen
A2: Referentie Vlaams Rapport: Berlamont, L., Lermytte, A., Abbeel, F., Lemaitre, R., Tavernier, N., van Braak, J. (2026). Vlaams rapport PISA 2025. Gent: Universiteit Gent
A4: Hoofdstuk 2
A5: ='Tabel 2.1'!A1 -> Tabel 2.1 | C5: ='Tabel 2.1'!A2 -> Gemiddelde score voor wetenschappen
A6: ='Figuur 2.5'!A1 -> Figuur 2.5 | C6: ='Figuur 2.5'!A2 -> Percentage top- en laagpresteerders voor wetenschappen
A7: ='Figuur 2.7'!A1 -> Figuur 2.7 | C7: ='Figuur 2.7'!A2 -> Trend gemiddelde score wetenschappen PISA 2015-PISA 2025
A8: ='Figuur 2.8'!A1 -> Figuur 2.8 | C8: ='Figuur 2.8'!A2 -> Trend gemiddelde score wetenschappen PISA 2022-PISA 2025
A9: ='Tabel 2.3'!A1 -> Tabel 2.3 | C9: ='Tabel 2.3'!A2 -> Gemiddelde score voor lezen
A10: ='Figuur 2.11'!A1 -> Figuur 2.11 | C10: ='Figuur 2.11'!A2 -> Percentage top- en laagpresteerders voor lezen
A11: ='Figuur 2.13'!A1 -> Figuur 2.13 | C11: ='Figuur 2.13'!A2 -> Trend gemiddelde score lezen PISA 2015-PISA 2025
A12: ='Figuur 2.14'!A1 -> Figuur 2.14 | C12: ='Figuur 2.14'!A2 -> Trend gemiddelde score lezen PISA 2022-PISA 2025
A13: ='Tabel 2.5'!A1 -> Tabel 2.5 | C13: ='Tabel 2.5'!A2 -> Gemiddelde score voor wiskunde
A14: ='Figuur 2.17'!A1 -> Figuur 2.17 | C14: ='Figuur 2.17'!A2 -> Percentage top- en laagpresteerders voor wiskunde
A15: ='Figuur 2.19'!A1 -> Figuur 2.19 | C15: ='Figuur 2.19'!A2 -> Trend gemiddelde score wiskunde PISA 2015-PISA 2025
A16: ='Figuur 2.20'!A1 -> Figuur 2.20 | C16: ='Figuur 2.20'!A2 -> Trend gemiddelde score wiskunde PISA 2022-PISA 2025
A18: Hoofdstuk 3
A19: ='Figuur 3.1'!A1 -> Figuur 3.1 | C19: ='Figuur 3.1'!A2 -> Spreiding in de scores voor wetenschappen
A20: ='Figuur 3.2'!A1 -> Figuur 3.2 | C20: ='Figuur 3.2'!A2 -> Spreiding in de scores voor lezen
A21: ='Figuur 3.3'!A1 -> Figuur 3.3 | C21: ='Figuur 3.3'!A2 -> Spreiding in de scores voor wiskunde
A22: ='Figuur 3.4'!A1 -> Figuur 3.4 | C22: ='Figuur 3.4'!A2 -> Samenhang tussen de spreiding en de gemiddelde score voor wetenschappen
A23: ='Figuur 3.6'!A1 -> Figuur 3.6 | C23: ='Figuur 3.6'!A2 -> Gemiddelde score van jongens en meisjes voor wetenschappen
A24: ='Figuur 3.7'!A1 -> Figuur 3.7 | C24: ='Figuur 3.7'!A2 -> Prestatiekloof tussen jongens en meisjes voor wetenschappen
A25: ='Figuur 3.8'!A1 -> Figuur 3.8 | C25: ='Figuur 3.8'!A2 -> Gemiddelde score van jongens en meisjes voor lezen
A26: ='Figuur 3.9'!A1 -> Figuur 3.9 | C26: ='Figuur 3.9'!A2 -> Prestatiekloof tussen jongens en meisjes voor lezen
A27: ='Figuur 3.10'!A1 -> Figuur 3.10 | C27: ='Figuur 3.10'!A2 -> Gemiddelde score van jongens en meisjes voor wiskunde
A28: ='Figuur 3.11'!A1 -> Figuur 3.11 | C28: ='Figuur 3.11'!A2 -> Prestatiekloof tussen jongens en meisjes voor wiskunde
A29: ='Figuur 3.14'!A1 -> Figuur 3.14 | C29: ='Figuur 3.14'!A2 -> Gemiddelde score van de socio-economisch meest en minst bevoorrechte leerlingen voor wetenschappen
A30: ='Figuur 3.15'!A1 -> Figuur 3.15 | C30: ='Figuur 3.15'!A2 -> Gemiddelde score van de socio-economisch meest en minst bevoorrechte leerlingen voor lezen
A31: ='Figuur 3.16'!A1 -> Figuur 3.16 | C31: ='Figuur 3.16'!A2 -> Gemiddelde score van de socio-economisch meest en minst bevoorrechte leerlingen voor wiskunde
A32: ='Figuur 3.19'!A1 -> Figuur 3.19 | C32: ='Figuur 3.19'!A2 -> Samenhang tussen de socio-economische eerlijkheid en de gemiddelde score voor wetenschappen
A33: ='Figuur 3.33'!A1 -> Figuur 3.33 | C33: ='Figuur 3.33'!A2 -> Percentage leerlingen in de PISA-steekproef naargelang migratieachtergrond
A34: ='Figuur 3.35'!A1 -> Figuur 3.35 | C34: ='Figuur 3.35'!A2 -> Gemiddelde score van autochtone leerlingen en leerlingen met een migratieachtergrond voor wetenschappen
A35: ='Figuur 3.36'!A1 -> Figuur 3.36 | C35: ='Figuur 3.36'!A2 -> Gemiddelde score van autochtone leerlingen en leerlingen met een migratieachtergrond voor lezen
A36: ='Figuur 3.37'!A1 -> Figuur 3.37 | C36: ='Figuur 3.37'!A2 -> Gemiddelde score van autochtone leerlingen en leerlingen met een migratieachtergrond voor wiskunde
A37: ='Figuur 3.40'!A1 -> Figuur 3.40 | C37: ='Figuur 3.40'!A2 -> Prestatiekloof voor wetenschappen tussen autochtone leerlingen en leerlingen met een migratieachtergrond, gecontroleerd voor SES
A38: ='Figuur 3.44'!A1 -> Figuur 3.44 | C38: ='Figuur 3.44'!A2 -> Prestatiekloof voor wetenschappen tussen autochtone leerlingen en leerlingen met een migratieachtergrond, gecontroleerd voor SES en thuistaal
A40: Hoofdstuk 4
A41: ='Tabel 4.2'!A1 -> Tabel 4.2 | C41: ='Tabel 4.2'!A2 -> Gemiddelde score voor computationeel probleemoplossen
A42: ='Figuur 4.4'!A1 -> Figuur 4.4 | C42: ='Figuur 4.4'!A2 -> Percentage toppresteerders voor computationeel probleemoplossen
A43: ='Figuur 4.5'!A1 -> Figuur 4.5 | C43: ='Figuur 4.5'!A2 -> Spreiding in de prestaties voor computationeel probleemoplossen
...

Sheet Tabel 2.1
A1: Tabel 2.1
A2: Gemiddelde score voor wetenschappen
A95: Noot. ▲ = significant hoger dan Vlaanderen. ▼ = significant lager dan Vlaanderen.

Sheet Figuur 2.5
A1: Figuur 2.5
A2: Percentage top- en laagpresteerders voor wetenschappen
A79: Noot. Landen zijn geordend volgens het aandeel toppresteerders.

Sheet Figuur 2.7
A1: Figuur 2.7
A2: Trend gemiddelde score wetenschappen PISA 2015-PISA 2025

Sheet Figuur 2.8
A1: Figuur 2.8
A2: Trend gemiddelde score wetenschappen PISA 2022-PISA 2025

Sheet Tabel 2.3
A1: Tabel 2.3
A2: Gemiddelde score voor lezen
A95: Noot. ▲ = significant hoger dan Vlaanderen. ▼ = significant lager dan Vlaanderen.

Sheet Figuur 2.11
A1: Figuur 2.11
A2: Percentage top- en laagpresteerders voor lezen
A77: Noot. Landen zijn geordend volgens het aandeel toppresteerders.

Sheet Figuur 2.13
A1: Figuur 2.13
A2: Trend gemiddelde score lezen PISA 2015-PISA 2025

Sheet Figuur 2.14
A1: Figuur 2.14
A2: Trend gemiddelde score lezen PISA 2022-PISA 2025

Sheet Tabel 2.5
A1: Tabel 2.5
A2: Gemiddelde score voor wiskunde
A95: Noot. ▲ = significant hoger dan Vlaanderen. ▼ = significant lager dan Vlaanderen.

Sheet Figuur 2.17
A1: Figuur 2.17
A2: Percentage top- en laagpresteerders voor wiskunde
A83: Noot. Landen zijn geordend volgens het aandeel toppresteerders.

Sheet Figuur 2.19
A1: Figuur 2.19
A2: Trend gemiddelde score wiskunde PISA 2015-PISA 2025

Sheet Figuur 2.20
A1: Figuur 2.20
A2: Trend gemiddelde score wiskunde PISA 2022-PISA 2025

Sheet Figuur 3.1
A1: Figuur 3.1
A2: Spreiding in de scores voor wetenschappen
A69: Noot. Landen zijn geordend volgens de gemiddelde score voor wetenschappen. De landen in het grijs kader scoren gemiddeld genomen vergelijkbaar met Vlaanderen (zie Tabel 2.1).
A130: Noot. Landen zijn geordend volgens de gemiddelde score voor wetenschappen. De landen in het grijs kader scoren gemiddeld genomen vergelijkbaar met Vlaanderen (zie Tabel 2.1).

Sheet Figuur 3.2
A1: Figuur 3.2
A2: Spreiding in de scores voor lezen
A69: Noot. Landen zijn geordend volgens de gemiddelde score voor lezen. De landen in het grijs kader scoren gemiddeld genomen vergelijkbaar met Vlaanderen (zie Tabel 2.3).

Sheet Figuur 3.3
A1: Figuur 3.3
A2: Spreiding in de scores voor wiskunde
A68: Noot. Landen zijn geordend volgens de gemiddelde score voor wiskunde. De landen in het grijs kader scoren gemiddeld genomen vergelijkbaar met Vlaanderen (zie Tabel 2.5).

Sheet Figuur 3.4
A1: Figuur 3.4
A2: Samenhang tussen de spreiding en de gemiddelde score voor wetenschappen
A29: Noot. Bij de vergelijking van de gemiddelde prestatie en de spreiding met het OESO-gemiddelde wordt in deze figuur geen rekening gehouden met statistische significantie.

Sheet Figuur 3.6
A1: Figuur 3.6
A2: Gemiddelde score van jongens en meisjes voor wetenschappen
A69: Noot. Landen zijn geordend volgens de gemiddelde score voor wetenschappen. Dit gemiddelde omvat alle leerlingen, ongeacht geslacht. De landen in het grijs kader scoren gemiddeld genomen vergelijkbaar met Vlaanderen (zie Tabel 2.1).

Sheet Figuur 3.7
A1: Figuur 3.7
A2: Prestatiekloof tussen jongens en meisjes voor wetenschappen

Sheet Figuur 3.8
A1: Figuur 3.8
A2: Gemiddelde score van jongens en meisjes voor lezen
A72: Noot. Landen zijn geordend volgens de gemiddelde score voor lezen. Dit gemiddelde omvat alle leerlingen, ongeacht geslacht. De landen in het grijs kader scoren gemiddeld genomen vergelijkbaar met Vlaanderen (zie Tabel 2.3). De schaal van deze figuur wijkt af van de figuren voor wiskunde en wetenenschappen (Figuur 3.6 en Figuur 3.10).

Sheet Figuur 3.9
A1: Figuur 3.9
A2: Prestatiekloof tussen jongens en meisjes voor lezen

Sheet Figuur 3.10
A1: Figuur 3.10
A2: Gemiddelde score van jongens en meisjes voor wiskunde
A72: Noot. Landen zijn geordend volgens de gemiddelde score voor wiskunde. Dit gemiddelde omvat alle leerlingen, ongeacht geslacht. De landen in het grijs kader scoren gemiddeld genomen vergelijkbaar met Vlaanderen (zie Tabel 2.5).

Sheet Figuur 3.11
A1: Figuur 3.11
A2: Prestatiekloof tussen jongens en meisjes voor wiskunde

Sheet Figuur 3.14
A1: Figuur 3.14
A2: Gemiddelde score van de socio-economisch meest en minst bevoorrechte leerlingen voor wetenschappen
A72: Noot. Landen zijn geordend volgens de gemiddelde score voor wetenschappen. Dit gemiddelde omvat alle leerlingen, ongeacht SES. De landen in het grijs kader scoren gemiddeld genomen vergelijkbaar met Vlaanderen (zie Tabel 2.1).

Sheet Figuur 3.15
A1: Figuur 3.15
A2: Gemiddelde score van de socio-economisch meest en minst bevoorrechte leerlingen voor lezen
A72: Noot. Landen zijn geordend volgens de gemiddelde score voor lezen. Dit gemiddelde omvat alle leerlingen, ongeacht SES. De landen in het grijs kader scoren gemiddeld genomen vergelijkbaar met Vlaanderen (zie Tabel 2.3).

Sheet Figuur 3.16
A1: Figuur 3.16
A2: Gemiddelde score van de socio-economisch meest en minst bevoorrechte leerlingen voor wiskunde
A72: Noot. Landen zijn geordend volgens de gemiddelde score voor wiskunde. Dit gemiddelde omvat alle leerlingen, ongeacht SES. De landen in het grijs kader scoren gemiddeld genomen vergelijkbaar met Vlaanderen (zie Tabel 2.5).

Sheet Figuur 3.19
A1: Figuur 3.19
A2: Samenhang tussen de socio-economische eerlijkheid en de gemiddelde score voor wetenschappen
A35: Noot. Bij de vergelijking van de gemiddelde prestatie en de socio-economische eerlijkheid met het OESO-gemiddelde wordt in deze figuur geen rekening gehouden met statistische significantie.

Sheet Figuur 3.33
A1: Figuur 3.33
A2: Percentage leerlingen in de PISA-steekproef naargelang migratieachtergrond
A57: Noot. Landen waarbij het aandeel leerlingen met een migratieachtergrond minder dan 5% bedraagt, worden niet weergegeven in de figuren over migratiestatus, omdat een dergelijke kleine groep leerlingen met een migratieachtergrond minder betrouwbare uitspraken toelaat en de vergelijkbaarheid met landen met een groter aandeel leerlingen met een migratieachtergrond beperkt.

Sheet Figuur 3.35
A1: Figuur 3.35
A2: Gemiddelde score van autochtone leerlingen en leerlingen met een migratieachtergrond voor wetenschappen
A73: Noot. Landen zijn geordend volgens de gemiddelde score voor wetenschappen. Dit gemiddelde omvat alle leerlingen, ongeacht migratiestatus. De landen in het grijs kader scoren gemiddeld genomen vergelijkbaar met Vlaanderen (zie Tabel 2.1).

Sheet Figuur 3.36
A1: Figuur 3.36
A2: Gemiddelde score van autochtone leerlingen en leerlingen met een migratieachtergrond voor lezen
A73: Noot. Landen zijn geordend volgens de gemiddelde score voor lezen. Dit gemiddelde omvat alle leerlingen, ongeacht migratiestatus. De landen in het grijs kader scoren gemiddeld genomen vergelijkbaar met Vlaanderen (zie Tabel 2.3).

Sheet Figuur 3.37
A1: Figuur 3.37
A2: Gemiddelde score van autochtone leerlingen en leerlingen met een migratieachtergrond voor wiskunde
A72: Noot. Landen zijn geordend volgens de gemiddelde score voor wiskunde. Dit gemiddelde omvat alle leerlingen, ongeacht migratiestatus. De landen in het grijs kader scoren gemiddeld genomen vergelijkbaar met Vlaanderen (zie Tabel 2.5).

Sheet Figuur 3.40
A1: Figuur 3.40
A2: Prestatiekloof voor wetenschappen tussen autochtone leerlingen en leerlingen met een migratieachtergrond, gecontroleerd voor SES
A68: Noot. Landen worden gerangschikt volgens het puntenverschil tussen autochtone leerlingen en leerlingen met een migratieachtergrond na controle voor SES. De puntenverschillen in deze figuur wijken af van de eerder gerapporteerde verschilscores, omdat enkel leerlingen met beschikbare gegevens voor migratiestatus, SES en thuistaal worden opgenomen, naar analogie met het internationaal rapport.

Sheet Figuur 3.44
A1: Figuur 3.44
A2: Prestatiekloof voor wetenschappen tussen autochtone leerlingen en leerlingen met een migratieachtergrond, gecontroleerd voor SES en thuistaal
A64: Noot. Landen zijn geordend volgens het puntenverschil tussen autochtone leerlingen en leerlingen met een migratieachtergrond na controle voor SES en thuistaal. De puntenverschillen in deze figuur wijken af van de eerder gerapporteerde verschilscores, omdat enkel leerlingen met beschikbare gegevens voor migratiestatus, SES en thuistaal worden opgenomen.

Sheet Tabel 4.2
A1: Tabel 4.2
A2: Gemiddelde score voor computationeel probleemoplossen
A95: Noot. ▲ = significant hoger dan Vlaanderen. ▼ = significant lager dan Vlaanderen.

Sheet Figuur 4.4
A1: Figuur 4.4
A2: Percentage toppresteerders voor computationeel probleemoplossen
A79: Noot. Landen zijn geordend volgens het aandeel toppresteerders.

Sheet Figuur 4.5
A1: Figuur 4.5
A2: Spreiding in de prestaties voor computationeel probleemoplossen
A72: Noot. Landen zijn geordend volgens de gemiddelde score voor computationeel probleemoplossen. De landen in het grijs kader scoren gemiddeld genomen vergelijkbaar met Vlaanderen (zie Tabel 4.2).

Sheet Figuur 4.6
A1: Figuur 4.6
A2: Gemiddelde score voor jongens en meisjes voor computationeel probleemoplossen
A72: Noot. Landen zijn geordend volgens de gemiddelde score voor computationeel probleemoplossen. Dit gemiddelde omvat alle leerlingen, ongeacht geslacht. De landen in het grijs kader scoren gemiddeld genomen vergelijkbaar met Vlaanderen (zie Tabel 4.2).

Sheet Figuur 4.7
A1: Figuur 4.7
A2: Prestatiekloof tussen jongens en meisjes voor computationeel probleemoplossen

Sheet Figuur 4.8
A1: Figuur 4.8
A2: Gemiddelde score van de socio-economisch meest en minst bevoorrechte leerlingen voor computationeel probleemoplossen
A72: Noot. Landen zijn geordend volgens de gemiddelde score voor computationeel probleemoplossen. Dit gemiddelde omvat alle leerlingen, ongeacht SES. De landen in het grijs kader scoren gemiddeld genomen vergelijkbaar met Vlaanderen (zie Tabel 4.2).
